BEGIN:VCALENDAR
VERSION:2.0
PRODID:-//Realco - ECPv6.15.20//NONSGML v1.0//EN
CALSCALE:GREGORIAN
METHOD:PUBLISH
X-ORIGINAL-URL:https://realco.be
X-WR-CALDESC:Évènements pour Realco
REFRESH-INTERVAL;VALUE=DURATION:PT1H
X-Robots-Tag:noindex
X-PUBLISHED-TTL:PT1H
BEGIN:VTIMEZONE
TZID:Europe/Brussels
BEGIN:DAYLIGHT
TZOFFSETFROM:+0100
TZOFFSETTO:+0200
TZNAME:CEST
DTSTART:20220327T010000
END:DAYLIGHT
BEGIN:STANDARD
TZOFFSETFROM:+0200
TZOFFSETTO:+0100
TZNAME:CET
DTSTART:20221030T010000
END:STANDARD
BEGIN:DAYLIGHT
TZOFFSETFROM:+0100
TZOFFSETTO:+0200
TZNAME:CEST
DTSTART:20230326T010000
END:DAYLIGHT
BEGIN:STANDARD
TZOFFSETFROM:+0200
TZOFFSETTO:+0100
TZNAME:CET
DTSTART:20231029T010000
END:STANDARD
BEGIN:DAYLIGHT
TZOFFSETFROM:+0100
TZOFFSETTO:+0200
TZNAME:CEST
DTSTART:20240331T010000
END:DAYLIGHT
BEGIN:STANDARD
TZOFFSETFROM:+0200
TZOFFSETTO:+0100
TZNAME:CET
DTSTART:20241027T010000
END:STANDARD
END:VTIMEZONE
BEGIN:VEVENT
DTSTART;VALUE=DATE:20230716
DTEND;VALUE=DATE:20230720
DTSTAMP:20260418T173227
CREATED:20220316T110623Z
LAST-MODIFIED:20221104T131654Z
UID:2683-1689465600-1689811199@realco.be
SUMMARY:IAFP
DESCRIPTION:Questions actuelles et émergentes en matière de sécurité alimentaire\, les dernières avancées scientifiques\, les solutions innovantes et l’occasion de nouer des contacts avec des professionnels de la sécurité alimentaire
URL:https://realco.be/event/iafp/
LOCATION:Torronto\, USA
CATEGORIES:Foires & Salons
ATTACH;FMTTYPE=image/jpeg:https://realco.be/wp-content/uploads/2022/03/adobestock-164450024-e1647428744210.jpeg
END:VEVENT
END:VCALENDAR