BEGIN:VCALENDAR
VERSION:2.0
PRODID:-//Realco - ECPv6.15.20//NONSGML v1.0//EN
CALSCALE:GREGORIAN
METHOD:PUBLISH
X-WR-CALNAME:Realco
X-ORIGINAL-URL:https://realco.be
X-WR-CALDESC:Évènements pour Realco
REFRESH-INTERVAL;VALUE=DURATION:PT1H
X-Robots-Tag:noindex
X-PUBLISHED-TTL:PT1H
BEGIN:VTIMEZONE
TZID:Europe/Brussels
BEGIN:DAYLIGHT
TZOFFSETFROM:+0100
TZOFFSETTO:+0200
TZNAME:CEST
DTSTART:20220327T010000
END:DAYLIGHT
BEGIN:STANDARD
TZOFFSETFROM:+0200
TZOFFSETTO:+0100
TZNAME:CET
DTSTART:20221030T010000
END:STANDARD
BEGIN:DAYLIGHT
TZOFFSETFROM:+0100
TZOFFSETTO:+0200
TZNAME:CEST
DTSTART:20230326T010000
END:DAYLIGHT
BEGIN:STANDARD
TZOFFSETFROM:+0200
TZOFFSETTO:+0100
TZNAME:CET
DTSTART:20231029T010000
END:STANDARD
BEGIN:DAYLIGHT
TZOFFSETFROM:+0100
TZOFFSETTO:+0200
TZNAME:CEST
DTSTART:20240331T010000
END:DAYLIGHT
BEGIN:STANDARD
TZOFFSETFROM:+0200
TZOFFSETTO:+0100
TZNAME:CET
DTSTART:20241027T010000
END:STANDARD
END:VTIMEZONE
BEGIN:VEVENT
DTSTART;VALUE=DATE:20230509
DTEND;VALUE=DATE:20230511
DTSTAMP:20260425T182629
CREATED:20220316T101908Z
LAST-MODIFIED:20221104T131509Z
UID:2635-1683590400-1683763199@realco.be
SUMMARY:Food Sure Summit Europe
DESCRIPTION:Des études de cas de premier plan sur la sécurité alimentaire\, la qualité et la fabrication
URL:https://realco.be/event/food-sure-summit-europe/
LOCATION:Milan\, Milan\, Italie
CATEGORIES:Foires & Salons
ATTACH;FMTTYPE=image/jpeg:https://realco.be/wp-content/uploads/2022/03/adobestock-185824119.jpeg
END:VEVENT
BEGIN:VEVENT
DTSTART;TZID=Europe/Brussels:20230514T110000
DTEND;TZID=Europe/Brussels:20230514T170000
DTSTAMP:20260425T182629
CREATED:20221104T130647Z
LAST-MODIFIED:20230418T094853Z
UID:5111-1684062000-1684083600@realco.be
SUMMARY:Journée portes ouvertes
DESCRIPTION:Venez découvrir la magie de la chimie verte et des enzymes au cœur de notre nouveau site de production ! Le 14 mai 2023\, nous organisons à nouveau une journée portes ouvertes pour découvrir les coulisses de Realco. Inscrivez-vous vite ici !
URL:https://realco.be/event/journees-portes-ouvertes/
LOCATION:Realco\, Avenue Albert Einstein\, Louvain-la-Neuve\, Brabant Wallon\, 1348\, Belgique
ATTACH;FMTTYPE=image/jpeg:https://realco.be/wp-content/uploads/2022/11/img-20190518-120244-e1667567548996.jpg
ORGANIZER;CN="Realco":MAILTO:info@realco.be
END:VEVENT
END:VCALENDAR